BEGIN:VCALENDAR
VERSION:2.0
PRODID:-//YEG Cooking Classes - ECPv6.15.16//NONSGML v1.0//EN
CALSCALE:GREGORIAN
METHOD:PUBLISH
X-WR-CALNAME:YEG Cooking Classes
X-ORIGINAL-URL:https://yegcookingclasses.com
X-WR-CALDESC:Events for YEG Cooking Classes
REFRESH-INTERVAL;VALUE=DURATION:PT1H
X-Robots-Tag:noindex
X-PUBLISHED-TTL:PT1H
BEGIN:VTIMEZONE
TZID:America/Edmonton
BEGIN:DAYLIGHT
TZOFFSETFROM:-0700
TZOFFSETTO:-0600
TZNAME:MDT
DTSTART:20250309T090000
END:DAYLIGHT
BEGIN:STANDARD
TZOFFSETFROM:-0600
TZOFFSETTO:-0700
TZNAME:MST
DTSTART:20251102T080000
END:STANDARD
BEGIN:DAYLIGHT
TZOFFSETFROM:-0700
TZOFFSETTO:-0600
TZNAME:MDT
DTSTART:20260308T090000
END:DAYLIGHT
BEGIN:STANDARD
TZOFFSETFROM:-0600
TZOFFSETTO:-0700
TZNAME:MST
DTSTART:20261101T080000
END:STANDARD
BEGIN:DAYLIGHT
TZOFFSETFROM:-0700
TZOFFSETTO:-0600
TZNAME:MDT
DTSTART:20270314T090000
END:DAYLIGHT
BEGIN:STANDARD
TZOFFSETFROM:-0600
TZOFFSETTO:-0700
TZNAME:MST
DTSTART:20271107T080000
END:STANDARD
END:VTIMEZONE
BEGIN:VEVENT
DTSTART;TZID=America/Edmonton:20260422T120000
DTEND;TZID=America/Edmonton:20260422T160000
DTSTAMP:20260422T075320
CREATED:20260417T182017Z
LAST-MODIFIED:20260417T182021Z
UID:84667-1776859200-1776873600@yegcookingclasses.com
SUMMARY:CORPORATE COOKING CLASS
DESCRIPTION:This date has been reserved for a Corporate Cooking Class.\n\n\n\n\n\n\n\n\n\n\n\n\n\n\n\n\n\n\n\n\n	Skillsets\n	How to cook!
URL:https://yegcookingclasses.com/cooking-class/corporate-cooking-class-101/
LOCATION:Caffè Sorrentino Head Office\, 10665 109 Street\, Edmonton\, Alberta\, T5H 3B5\, Canada
CATEGORIES:Corporate Class
ATTACH;FMTTYPE=image/jpeg:https://yegcookingclasses.com/wp-content/uploads/2022/06/Private-Class-Logo-scaled.jpg
ORGANIZER;CN="YEG Cooking Classes by Sorrentino's":MAILTO:info@sorrentinos.com
END:VEVENT
BEGIN:VEVENT
DTSTART;TZID=America/Edmonton:20260422T180000
DTEND;TZID=America/Edmonton:20260422T210000
DTSTAMP:20260422T075320
CREATED:20260304T222451Z
LAST-MODIFIED:20260304T222526Z
UID:83388-1776880800-1776891600@yegcookingclasses.com
SUMMARY:Cuisines Around the World: The Spanish Table
DESCRIPTION:Ensalada de Naranjas y Aceitunas\n\n\n\nGambas al Ajillo\n\n\n\nPaella de Pollo y Pescado\n\n\n\nCrema Catalana\n\n\n\n\n\n\n\nTransport yourself to the vibrant flavours of Spain in this hands-on 4-course cooking experience! Guided by our experienced chefs\, you’ll explore traditional Spanish techniques while preparing a beautiful menu inspired by regional classics.\nOn Today’s Menu\nEnsalada de Naranjas y Aceitunasmarinated olives\, red onion\, toasted almonds & sherry vinaigrette \nGambas al Ajillowith garlic\, smoked paprika\, chili flakes & extra virgin olive oil \nPaella de Pollo y Pescadochicken\, white fish\, peppers\, peas & a rich homemade sofrito \nCrema Catalanalemon zest & cinnamon \nExperience an engaging and interactive cooking class led by our skilled chefs. \nOur cooking classes promise an immersive hands-on culinary adventure. Spend a delightful evening learning new techniques and honing your skills. \nKick off your experience with a welcome glass of wine as our chef leads you through the menu. Then\, delight in a sit-down dinner featuring your delicious creations at our communal dinner table. \nEnhancing your experience\, a dedicated server will be on hand throughout your class. Indulge with additional wine\, cocktails\, and specialty coffees available for purchase throughout the event. Join us for a memorable culinary journey! \nPlease note: All single registration participants will be paired for this class. \n\n\n\nPlease Note: \n\n\n\nClass tickets are $119.05 plus GST\, per person. You will need to purchase 1 ticket for each person. \nClass menus are subject to change without notice. Please note any dietary restrictions in the order notes during checkout. For Terms + Conditions and Cancellation Policy please see below.\n\n\n\n\n\n\n\n\n\n\n\n\n\n\n\n\n\n\n\n\n	Skillsets\n	How to cook!
URL:https://yegcookingclasses.com/cooking-class/cuisines-around-the-world-the-spanish-table-2/
LOCATION:Caffè Sorrentino Head Office\, 10665 109 Street\, Edmonton\, Alberta\, T5H 3B5\, Canada
CATEGORIES:Seafood
ATTACH;FMTTYPE=image/jpeg:https://yegcookingclasses.com/wp-content/uploads/2025/12/Paella-de-Pollo-y-Pescado.jpg
ORGANIZER;CN="YEG Cooking Classes by Sorrentino's":MAILTO:info@sorrentinos.com
END:VEVENT
END:VCALENDAR