BEGIN:VCALENDAR
VERSION:2.0
PRODID:-//YEG Cooking Classes - ECPv6.15.16//NONSGML v1.0//EN
CALSCALE:GREGORIAN
METHOD:PUBLISH
X-WR-CALNAME:YEG Cooking Classes
X-ORIGINAL-URL:https://yegcookingclasses.com
X-WR-CALDESC:Events for YEG Cooking Classes
REFRESH-INTERVAL;VALUE=DURATION:PT1H
X-Robots-Tag:noindex
X-PUBLISHED-TTL:PT1H
BEGIN:VTIMEZONE
TZID:America/Edmonton
BEGIN:DAYLIGHT
TZOFFSETFROM:-0700
TZOFFSETTO:-0600
TZNAME:MDT
DTSTART:20250309T090000
END:DAYLIGHT
BEGIN:STANDARD
TZOFFSETFROM:-0600
TZOFFSETTO:-0700
TZNAME:MST
DTSTART:20251102T080000
END:STANDARD
BEGIN:DAYLIGHT
TZOFFSETFROM:-0700
TZOFFSETTO:-0600
TZNAME:MDT
DTSTART:20260308T090000
END:DAYLIGHT
BEGIN:STANDARD
TZOFFSETFROM:-0600
TZOFFSETTO:-0700
TZNAME:MST
DTSTART:20261101T080000
END:STANDARD
BEGIN:DAYLIGHT
TZOFFSETFROM:-0700
TZOFFSETTO:-0600
TZNAME:MDT
DTSTART:20270314T090000
END:DAYLIGHT
BEGIN:STANDARD
TZOFFSETFROM:-0600
TZOFFSETTO:-0700
TZNAME:MST
DTSTART:20271107T080000
END:STANDARD
END:VTIMEZONE
BEGIN:VEVENT
DTSTART;TZID=America/Edmonton:20260425T130000
DTEND;TZID=America/Edmonton:20260425T160000
DTSTAMP:20260425T101023
CREATED:20260304T222625Z
LAST-MODIFIED:20260304T222629Z
UID:83410-1777122000-1777132800@yegcookingclasses.com
SUMMARY:Pasta MasterClass: Spaghetti alla Chitarra
DESCRIPTION:Unleash the true spirit of Italy with our authentic Chitarra Pasta\, named after the musical instrument it resembles. Crafted with love\, this homemade pasta is made on a wooden frame with strings stretched across\, giving it those distinct square edges that elevate your pasta game! \nSay arrivederci to ordinary spaghetti and savor the harmonious blend of flavors and textures that Chitarra Pasta brings to your table. Taste the tradition\, embrace the uniqueness\, and indulge in a pasta experience like no other. Buon Appetito! \nOn Today’s Menu\nChef’s Choice Appetizer \nEgg Pasta Dough \nProper Use of Chitarra \nCherry Tomato Sauce \nClam Sauce \nChef’s Choice Dessert \n\n\n\nEmbark on a culinary journey with our experienced chefs\, learning to craft dishes from scratch. Our interactive classes offer a comprehensive journey from start to finish\, immersing you in the art of culinary creation. \nLearn about the origins of ingredients\, regional histories\, and tips and tricks to elevate your kitchen knowledge. Let these classes ignite a newfound appreciation for the craftsmanship of homemade cuisine. \nAt the conclusion of the event delight in a sit-down dinner featuring your delicious creations at our communal dinner table. Enhancing your experience\, a dedicated server will be on hand throughout your class. Indulge further with wine\, cocktails\, and specialty coffees available for purchase throughout the event. Join us for an enriching and unforgettable culinary experience. \nPlease note: All single registration participants will be paired for this class. \nPlease Note: \n\n\nClass tickets are $119.05 not including GST\, per person. You will need to purchase 1 ticket for each person. \nClass menus are subject to change without notice. Please note any dietary restrictions in the order notes during checkout. For Terms + Conditions and Cancellation Policy please see below.
URL:https://yegcookingclasses.com/cooking-class/pasta-masterclass-spaghetti-alla-chitarra-2/
LOCATION:Caffè Sorrentino Head Office\, 10665 109 Street\, Edmonton\, Alberta\, T5H 3B5\, Canada
CATEGORIES:Masterclass,Pasta Making,Traditional Italian
ATTACH;FMTTYPE=image/png:https://yegcookingclasses.com/wp-content/uploads/2023/07/Untitled-design-22-2.png
ORGANIZER;CN="YEG Cooking Classes by Sorrentino's":MAILTO:info@sorrentinos.com
END:VEVENT
BEGIN:VEVENT
DTSTART;TZID=America/Edmonton:20260425T180000
DTEND;TZID=America/Edmonton:20260425T210000
DTSTAMP:20260425T101023
CREATED:20260304T221738Z
LAST-MODIFIED:20260424T175001Z
UID:83211-1777140000-1777150800@yegcookingclasses.com
SUMMARY:SOLD OUT! Garlic Lovers Dream Presented by QUALICO
DESCRIPTION:Black Garlic Arugula Salad\n\n\n\nGarlic Risotto\n\n\n\nChocolate Panna Cotta\n\n\n\n\n\n\n\n$10 from each ticket sold will be donated To Sorrentino’s Compassion House\nVisit garlicfest.ca to view all charitable events throughout Sorrentino’s Garlic Fest\nOn Today’s Menu\nBlack Garlic Arugula Saladarugula\, fresh fig\, coppa ham\, black garlic balsamic dressing\, grissino \nGarlic RisottoArborio rice\, asparagus\, aglio\, olio\, prawns \nChocolate Panna Cottastrawberries macedonia\, garlic & fresh mint \n\n\n\nExperience an engaging and interactive cooking class led by our skilled chefs. \nOur cooking classes promise an immersive hands-on culinary adventure. Spend a delightful evening learning new techniques and honing your skills. \nKick off your experience with a welcome glass of wine as our chef leads you through the menu. Then\, delight in a sit-down dinner featuring your delicious creations at our communal dinner table. \nEnhancing your experience\, a dedicated server will be on hand throughout your class. Indulge with additional wine\, cocktails\, and specialty coffees available for purchase throughout the event. Join us for a memorable culinary journey! \nPlease note: All single registration participants will be paired for this class. \nPlease Note: \n\n\nClass tickets are $119.05 plus GST\, per person. You will need to purchase 1 ticket for each person. \nClass menus are subject to change without notice. Please note any dietary restrictions in the order notes during checkout. For Terms + Conditions and Cancellation Policy please see below.
URL:https://yegcookingclasses.com/cooking-class/garlic-lovers-dream-presented-by-qualico/
LOCATION:Caffè Sorrentino Head Office\, 10665 109 Street\, Edmonton\, Alberta\, T5H 3B5\, Canada
CATEGORIES:Garlic Festival
ATTACH;FMTTYPE=image/png:https://yegcookingclasses.com/wp-content/uploads/2023/02/Rissotto-1png.png
ORGANIZER;CN="YEG Cooking Classes by Sorrentino's":MAILTO:info@sorrentinos.com
END:VEVENT
END:VCALENDAR