BEGIN:VCALENDAR
VERSION:2.0
PRODID:-//YEG Cooking Classes - ECPv6.15.16//NONSGML v1.0//EN
CALSCALE:GREGORIAN
METHOD:PUBLISH
X-WR-CALNAME:YEG Cooking Classes
X-ORIGINAL-URL:https://yegcookingclasses.com
X-WR-CALDESC:Events for YEG Cooking Classes
REFRESH-INTERVAL;VALUE=DURATION:PT1H
X-Robots-Tag:noindex
X-PUBLISHED-TTL:PT1H
BEGIN:VTIMEZONE
TZID:America/Edmonton
BEGIN:DAYLIGHT
TZOFFSETFROM:-0700
TZOFFSETTO:-0600
TZNAME:MDT
DTSTART:20250309T090000
END:DAYLIGHT
BEGIN:STANDARD
TZOFFSETFROM:-0600
TZOFFSETTO:-0700
TZNAME:MST
DTSTART:20251102T080000
END:STANDARD
BEGIN:DAYLIGHT
TZOFFSETFROM:-0700
TZOFFSETTO:-0600
TZNAME:MDT
DTSTART:20260308T090000
END:DAYLIGHT
BEGIN:STANDARD
TZOFFSETFROM:-0600
TZOFFSETTO:-0700
TZNAME:MST
DTSTART:20261101T080000
END:STANDARD
BEGIN:DAYLIGHT
TZOFFSETFROM:-0700
TZOFFSETTO:-0600
TZNAME:MDT
DTSTART:20270314T090000
END:DAYLIGHT
BEGIN:STANDARD
TZOFFSETFROM:-0600
TZOFFSETTO:-0700
TZNAME:MST
DTSTART:20271107T080000
END:STANDARD
END:VTIMEZONE
BEGIN:VEVENT
DTSTART;TZID=America/Edmonton:20260306T180000
DTEND;TZID=America/Edmonton:20260306T210000
DTSTAMP:20260422T080416
CREATED:20260203T232639Z
LAST-MODIFIED:20260217T190405Z
UID:82555-1772820000-1772830800@yegcookingclasses.com
SUMMARY:SOLD OUT! Date Night: Sea of Love
DESCRIPTION:Citrus-Cured Wild Salmon Carpaccio\n\n\n\nSaffron & Lobster Risotto\n\n\n\nPan-Seared Black Cod\n\n\n\nCoconut Panna Cotta\n\n\n\n\n\n\n\nNEW CLASS!\nOn Today’s Menu\nCitrus-Cured Wild Salmon Carpacciowith fennel\, pink peppercorns\, capers\, microgreens & Sicilian olive oilSaffron & Lobster Risottowith creamy carnaroli rice\, Atlantic lobster\, lemon zest & chive oilPan-Seared Black Codwith roasted cherry tomatoes\, olive tapenade & evooCoconut Panna Cottawith passion fruit coulis \nImmerse yourselves in an enchanting and interactive cooking class\, guided by our expert chefs. Tailored for couples\, our date night cooking classes offer an intimate and hands-on culinary journey meant to be shared. \nBegin your evening with a glass of wine\, as the chef captivates and guides you through the menu. Conclude your night with a cozy sit-down dinner for two in our dining room\, complete with candles and music to enhance the ambiance. \nEnhancing your experience\, a dedicated server will be on hand throughout your class. Indulge further with additional wine\, cocktails\, and specialty coffees available for purchase throughout the event. Join us for a truly unforgettable culinary adventure for two. \nPlease Note: \nClass tickets are $238.10 plus GST \, per couple. You only need to purchase 1 ticket for 2 people. \nClass menus are subject to change without notice. Please note any dietary restrictions in the order notes during checkout. For Terms + Conditions and Cancellation Policy please see below.
URL:https://yegcookingclasses.com/cooking-class/date-night-sea-of-love-4/
LOCATION:Caffè Sorrentino Head Office\, 10665 109 Street\, Edmonton\, Alberta\, T5H 3B5\, Canada
CATEGORIES:Date Night,Seafood
ATTACH;FMTTYPE=image/jpeg:https://yegcookingclasses.com/wp-content/uploads/2026/01/Saffron-Lobster-Risotto_Creamy-carnaroli-rice-Atlantic-lobster-lemon-zest-chive-oil.jpg
ORGANIZER;CN="YEG Cooking Classes by Sorrentino's":MAILTO:info@sorrentinos.com
END:VEVENT
END:VCALENDAR